BEGIN:VCALENDAR
VERSION:2.0
PRODID:-//Sky Ute Fairgrounds - ECPv6.15.20//NONSGML v1.0//EN
CALSCALE:GREGORIAN
METHOD:PUBLISH
X-ORIGINAL-URL:https://www.skyutefairgrounds.com
X-WR-CALDESC:Events for Sky Ute Fairgrounds
REFRESH-INTERVAL;VALUE=DURATION:PT1H
X-Robots-Tag:noindex
X-PUBLISHED-TTL:PT1H
BEGIN:VTIMEZONE
TZID:America/Denver
BEGIN:DAYLIGHT
TZOFFSETFROM:-0700
TZOFFSETTO:-0600
TZNAME:MDT
DTSTART:20230312T090000
END:DAYLIGHT
BEGIN:STANDARD
TZOFFSETFROM:-0600
TZOFFSETTO:-0700
TZNAME:MST
DTSTART:20231105T080000
END:STANDARD
BEGIN:DAYLIGHT
TZOFFSETFROM:-0700
TZOFFSETTO:-0600
TZNAME:MDT
DTSTART:20240310T090000
END:DAYLIGHT
BEGIN:STANDARD
TZOFFSETFROM:-0600
TZOFFSETTO:-0700
TZNAME:MST
DTSTART:20241103T080000
END:STANDARD
BEGIN:DAYLIGHT
TZOFFSETFROM:-0700
TZOFFSETTO:-0600
TZNAME:MDT
DTSTART:20250309T090000
END:DAYLIGHT
BEGIN:STANDARD
TZOFFSETFROM:-0600
TZOFFSETTO:-0700
TZNAME:MST
DTSTART:20251102T080000
END:STANDARD
END:VTIMEZONE
BEGIN:VEVENT
DTSTART;TZID=America/Denver:20240213T090000
DTEND;TZID=America/Denver:20240213T120000
DTSTAMP:20260425T062519
CREATED:20231025T192005Z
LAST-MODIFIED:20240117T205844Z
UID:1724-1707814800-1707825600@www.skyutefairgrounds.com
SUMMARY:Private
DESCRIPTION:Private 9:00am-12:00pm
URL:https://www.skyutefairgrounds.com/event/private-246/
END:VEVENT
BEGIN:VEVENT
DTSTART;TZID=America/Denver:20240213T123000
DTEND;TZID=America/Denver:20240213T143000
DTSTAMP:20260425T062519
CREATED:20231030T140940Z
LAST-MODIFIED:20231217T174732Z
UID:1776-1707827400-1707834600@www.skyutefairgrounds.com
SUMMARY:Private
DESCRIPTION:Private 12:30pm-2:30pm
URL:https://www.skyutefairgrounds.com/event/private-290/
END:VEVENT
BEGIN:VEVENT
DTSTART;TZID=America/Denver:20240213T150000
DTEND;TZID=America/Denver:20240213T170000
DTSTAMP:20260425T062519
CREATED:20240212T202810Z
LAST-MODIFIED:20240212T202810Z
UID:1890-1707836400-1707843600@www.skyutefairgrounds.com
SUMMARY:Private
DESCRIPTION:Private 3pm to 5pm
URL:https://www.skyutefairgrounds.com/event/private-329/
END:VEVENT
BEGIN:VEVENT
DTSTART;TZID=America/Denver:20240213T180000
DTEND;TZID=America/Denver:20240213T200000
DTSTAMP:20260425T062519
CREATED:20231120T155142Z
LAST-MODIFIED:20231120T155142Z
UID:1825-1707847200-1707854400@www.skyutefairgrounds.com
SUMMARY:Private
DESCRIPTION:Private 6:00pm-8:00pm
URL:https://www.skyutefairgrounds.com/event/private-330/
END:VEVENT
END:VCALENDAR