BEGIN:VCALENDAR
VERSION:2.0
PRODID:-//Sky Ute Fairgrounds - ECPv6.15.20//NONSGML v1.0//EN
CALSCALE:GREGORIAN
METHOD:PUBLISH
X-WR-CALNAME:Sky Ute Fairgrounds
X-ORIGINAL-URL:https://www.skyutefairgrounds.com
X-WR-CALDESC:Events for Sky Ute Fairgrounds
REFRESH-INTERVAL;VALUE=DURATION:PT1H
X-Robots-Tag:noindex
X-PUBLISHED-TTL:PT1H
BEGIN:VTIMEZONE
TZID:America/Denver
BEGIN:DAYLIGHT
TZOFFSETFROM:-0700
TZOFFSETTO:-0600
TZNAME:MDT
DTSTART:20230312T090000
END:DAYLIGHT
BEGIN:STANDARD
TZOFFSETFROM:-0600
TZOFFSETTO:-0700
TZNAME:MST
DTSTART:20231105T080000
END:STANDARD
BEGIN:DAYLIGHT
TZOFFSETFROM:-0700
TZOFFSETTO:-0600
TZNAME:MDT
DTSTART:20240310T090000
END:DAYLIGHT
BEGIN:STANDARD
TZOFFSETFROM:-0600
TZOFFSETTO:-0700
TZNAME:MST
DTSTART:20241103T080000
END:STANDARD
BEGIN:DAYLIGHT
TZOFFSETFROM:-0700
TZOFFSETTO:-0600
TZNAME:MDT
DTSTART:20250309T090000
END:DAYLIGHT
BEGIN:STANDARD
TZOFFSETFROM:-0600
TZOFFSETTO:-0700
TZNAME:MST
DTSTART:20251102T080000
END:STANDARD
END:VTIMEZONE
BEGIN:VEVENT
DTSTART;TZID=America/Denver:20240225T100000
DTEND;TZID=America/Denver:20240225T130000
DTSTAMP:20260420T222343
CREATED:20231113T184302Z
LAST-MODIFIED:20240123T174604Z
UID:1804-1708855200-1708866000@www.skyutefairgrounds.com
SUMMARY:Private
DESCRIPTION:Private 10:00am-1:00pm
URL:https://www.skyutefairgrounds.com/event/private-310/
END:VEVENT
BEGIN:VEVENT
DTSTART;TZID=America/Denver:20240225T133000
DTEND;TZID=America/Denver:20240225T163000
DTSTAMP:20260420T222343
CREATED:20240117T203920Z
LAST-MODIFIED:20240117T203920Z
UID:1868-1708867800-1708878600@www.skyutefairgrounds.com
SUMMARY:Private
DESCRIPTION:Private 1:30pm to 4:30 pm
URL:https://www.skyutefairgrounds.com/event/private-349/
END:VEVENT
END:VCALENDAR