BEGIN:VCALENDAR
VERSION:2.0
PRODID:-//Sky Ute Fairgrounds - ECPv6.15.20//NONSGML v1.0//EN
CALSCALE:GREGORIAN
METHOD:PUBLISH
X-WR-CALNAME:Sky Ute Fairgrounds
X-ORIGINAL-URL:https://www.skyutefairgrounds.com
X-WR-CALDESC:Events for Sky Ute Fairgrounds
REFRESH-INTERVAL;VALUE=DURATION:PT1H
X-Robots-Tag:noindex
X-PUBLISHED-TTL:PT1H
BEGIN:VTIMEZONE
TZID:America/Denver
BEGIN:DAYLIGHT
TZOFFSETFROM:-0700
TZOFFSETTO:-0600
TZNAME:MDT
DTSTART:20230312T090000
END:DAYLIGHT
BEGIN:STANDARD
TZOFFSETFROM:-0600
TZOFFSETTO:-0700
TZNAME:MST
DTSTART:20231105T080000
END:STANDARD
BEGIN:DAYLIGHT
TZOFFSETFROM:-0700
TZOFFSETTO:-0600
TZNAME:MDT
DTSTART:20240310T090000
END:DAYLIGHT
BEGIN:STANDARD
TZOFFSETFROM:-0600
TZOFFSETTO:-0700
TZNAME:MST
DTSTART:20241103T080000
END:STANDARD
BEGIN:DAYLIGHT
TZOFFSETFROM:-0700
TZOFFSETTO:-0600
TZNAME:MDT
DTSTART:20250309T090000
END:DAYLIGHT
BEGIN:STANDARD
TZOFFSETFROM:-0600
TZOFFSETTO:-0700
TZNAME:MST
DTSTART:20251102T080000
END:STANDARD
END:VTIMEZONE
BEGIN:VEVENT
DTSTART;TZID=America/Denver:20241231T150000
DTEND;TZID=America/Denver:20241231T200000
DTSTAMP:20260420T062455
CREATED:20241230T232739Z
LAST-MODIFIED:20241230T232739Z
UID:2159-1735657200-1735675200@www.skyutefairgrounds.com
SUMMARY:CLOSED
DESCRIPTION:
URL:https://www.skyutefairgrounds.com/event/closed-39/
END:VEVENT
END:VCALENDAR