BEGIN:VCALENDAR
VERSION:2.0
PRODID:-//Sky Ute Fairgrounds - ECPv6.15.20//NONSGML v1.0//EN
CALSCALE:GREGORIAN
METHOD:PUBLISH
X-WR-CALNAME:Sky Ute Fairgrounds
X-ORIGINAL-URL:https://www.skyutefairgrounds.com
X-WR-CALDESC:Events for Sky Ute Fairgrounds
REFRESH-INTERVAL;VALUE=DURATION:PT1H
X-Robots-Tag:noindex
X-PUBLISHED-TTL:PT1H
BEGIN:VTIMEZONE
TZID:America/Denver
BEGIN:DAYLIGHT
TZOFFSETFROM:-0700
TZOFFSETTO:-0600
TZNAME:MDT
DTSTART:20230312T090000
END:DAYLIGHT
BEGIN:STANDARD
TZOFFSETFROM:-0600
TZOFFSETTO:-0700
TZNAME:MST
DTSTART:20231105T080000
END:STANDARD
BEGIN:DAYLIGHT
TZOFFSETFROM:-0700
TZOFFSETTO:-0600
TZNAME:MDT
DTSTART:20240310T090000
END:DAYLIGHT
BEGIN:STANDARD
TZOFFSETFROM:-0600
TZOFFSETTO:-0700
TZNAME:MST
DTSTART:20241103T080000
END:STANDARD
BEGIN:DAYLIGHT
TZOFFSETFROM:-0700
TZOFFSETTO:-0600
TZNAME:MDT
DTSTART:20250309T090000
END:DAYLIGHT
BEGIN:STANDARD
TZOFFSETFROM:-0600
TZOFFSETTO:-0700
TZNAME:MST
DTSTART:20251102T080000
END:STANDARD
END:VTIMEZONE
BEGIN:VEVENT
DTSTART;TZID=America/Denver:20240601T080000
DTEND;TZID=America/Denver:20240601T170000
DTSTAMP:20260425T095556
CREATED:20240325T221904Z
LAST-MODIFIED:20240325T221904Z
UID:1938-1717228800-1717261200@www.skyutefairgrounds.com
SUMMARY:Rattle Snake Avoidance Dog Training
DESCRIPTION:Training
URL:https://www.skyutefairgrounds.com/event/rattle-snake-avoidance-dog-training/
END:VEVENT
BEGIN:VEVENT
DTSTART;TZID=America/Denver:20240607T080000
DTEND;TZID=America/Denver:20240609T170000
DTSTAMP:20260425T095556
CREATED:20231011T185344Z
LAST-MODIFIED:20231011T185344Z
UID:1676-1717747200-1717952400@www.skyutefairgrounds.com
SUMMARY:Clinic
DESCRIPTION:Clinic 8:00 am – 5:00 pm
URL:https://www.skyutefairgrounds.com/event/clinic-2/
END:VEVENT
BEGIN:VEVENT
DTSTART;TZID=America/Denver:20240614T130000
DTEND;TZID=America/Denver:20240614T170000
DTSTAMP:20260425T095556
CREATED:20240612T225547Z
LAST-MODIFIED:20240612T225547Z
UID:1977-1718370000-1718384400@www.skyutefairgrounds.com
SUMMARY:Closed
DESCRIPTION:
URL:https://www.skyutefairgrounds.com/event/closed-28/
END:VEVENT
BEGIN:VEVENT
DTSTART;TZID=America/Denver:20240615T080000
DTEND;TZID=America/Denver:20240615T170000
DTSTAMP:20260425T095556
CREATED:20231030T192619Z
LAST-MODIFIED:20231030T192619Z
UID:1783-1718438400-1718470800@www.skyutefairgrounds.com
SUMMARY:Narrow Gauge Rabbit Show
DESCRIPTION:Narrow Gauge Rabbit Show 8:00am-5:00pm
URL:https://www.skyutefairgrounds.com/event/narrow-gauge-rabbit-show/
END:VEVENT
BEGIN:VEVENT
DTSTART;TZID=America/Denver:20240618T080000
DTEND;TZID=America/Denver:20240618T170000
DTSTAMP:20260425T095556
CREATED:20240306T154853Z
LAST-MODIFIED:20240306T155723Z
UID:1929-1718697600-1718730000@www.skyutefairgrounds.com
SUMMARY:Packing Clinic
DESCRIPTION:Packing Clinic
URL:https://www.skyutefairgrounds.com/event/packing-clinic/
END:VEVENT
BEGIN:VEVENT
DTSTART;TZID=America/Denver:20240622T100000
DTEND;TZID=America/Denver:20240623T150000
DTSTAMP:20260425T095556
CREATED:20240325T222053Z
LAST-MODIFIED:20240325T222053Z
UID:1939-1719050400-1719154800@www.skyutefairgrounds.com
SUMMARY:Cross 7 Barrel Race
DESCRIPTION:Barrel Race
URL:https://www.skyutefairgrounds.com/event/cross-7-barrel-race-2/
END:VEVENT
BEGIN:VEVENT
DTSTART;TZID=America/Denver:20240624T080000
DTEND;TZID=America/Denver:20240630T170000
DTSTAMP:20260425T095556
CREATED:20240604T145624Z
LAST-MODIFIED:20240604T145624Z
UID:1975-1719216000-1719766800@www.skyutefairgrounds.com
SUMMARY:TLC Cutting event
DESCRIPTION:Closed
URL:https://www.skyutefairgrounds.com/event/tlc-cutting-event/
END:VEVENT
END:VCALENDAR